BEGIN:VCALENDAR
PRODID:http://wibix.de/infusions/pro_download_panel/download.php?did=27
VERSION:2.0
METHOD:PUBLISH
BEGIN:VEVENT
DTSTART:20100411T220000Z
UID:85@http://www.mat-fiz.eu/
DTSTAMP:20100330T125118Z
DESCRIPTION:Historia - powtórzenie
SUMMARY:Historia - powtórzenie
CLASS:PUBLIC
END:VEVENT
END:VCALENDAR
