BEGIN:VCALENDAR
PRODID:http://wibix.de/infusions/pro_download_panel/download.php?did=27
VERSION:2.0
METHOD:PUBLISH
BEGIN:VEVENT
DTSTART:20100406T220000Z
UID:84@http://www.mat-fiz.eu/
DTSTAMP:20100330T125033Z
DESCRIPTION:Chemia - powtórzenie
SUMMARY:Chemia - powtórzenie
CLASS:PUBLIC
END:VEVENT
END:VCALENDAR
