BEGIN:VCALENDAR
PRODID:http://wibix.de/infusions/pro_download_panel/download.php?did=27
VERSION:2.0
METHOD:PUBLISH
BEGIN:VEVENT
DTSTART:20100228T230000Z
UID:69@http://www.mat-fiz.eu/
DTSTAMP:20100301T153129Z
DESCRIPTION:J. polski - recenzja
SUMMARY:J. polski - recenzja
CLASS:PUBLIC
END:VEVENT
END:VCALENDAR
