BEGIN:VCALENDAR
PRODID:http://wibix.de/infusions/pro_download_panel/download.php?did=27
VERSION:2.0
METHOD:PUBLISH
BEGIN:VEVENT
DTSTART:20100209T230000Z
UID:63@http://www.mat-fiz.eu/
DTSTAMP:20100203T131526Z
DESCRIPTION:J. niemiecki - praca klasowa
SUMMARY:J. niemiecki - praca klasowa
CLASS:PUBLIC
END:VEVENT
END:VCALENDAR
