BEGIN:VCALENDAR
PRODID:http://wibix.de/infusions/pro_download_panel/download.php?did=27
VERSION:2.0
METHOD:PUBLISH
BEGIN:VEVENT
DTSTART:20100117T230000Z
UID:57@http://www.mat-fiz.eu/
DTSTAMP:20100115T144501Z
DESCRIPTION:J. polski - sprawdzian
SUMMARY:J. polski - sprawdzian
CLASS:PUBLIC
END:VEVENT
END:VCALENDAR
