BEGIN:VCALENDAR
PRODID:http://wibix.de/infusions/pro_download_panel/download.php?did=27
VERSION:2.0
METHOD:PUBLISH
BEGIN:VEVENT
DTSTART:20091213T230000Z
UID:43@http://www.mat-fiz.eu/
DTSTAMP:20091209T160607Z
DESCRIPTION:Wywiadówka
SUMMARY:Wywiadówka
CLASS:PUBLIC
END:VEVENT
END:VCALENDAR
