BEGIN:VCALENDAR
PRODID:http://wibix.de/infusions/pro_download_panel/download.php?did=27
VERSION:2.0
METHOD:PUBLISH
BEGIN:VEVENT
DTSTART:20091207T230000Z
UID:41@http://www.mat-fiz.eu/
DTSTAMP:20091206T182108Z
DESCRIPTION:Miko³ajki klasowe
SUMMARY:Miko³ajki klasowe
CLASS:PUBLIC
END:VEVENT
END:VCALENDAR
