BEGIN:VCALENDAR
PRODID:http://wibix.de/infusions/pro_download_panel/download.php?did=27
VERSION:2.0
METHOD:PUBLISH
BEGIN:VEVENT
DTSTART:20091209T230000Z
UID:36@http://www.mat-fiz.eu/
DTSTAMP:20091127T154651Z
DESCRIPTION:Fizyka - powtórzenie
SUMMARY:Fizyka - powtórzenie
CLASS:PUBLIC
END:VEVENT
END:VCALENDAR
