BEGIN:VCALENDAR
PRODID:http://wibix.de/infusions/pro_download_panel/download.php?did=27
VERSION:2.0
METHOD:PUBLISH
BEGIN:VEVENT
DTSTART:20120529T220000Z
UID:356@http://www.mat-fiz.eu/
DTSTAMP:20120526T215315Z
DESCRIPTION:Biwak klasowy
SUMMARY:Biwak klasowy
CLASS:PUBLIC
END:VEVENT
END:VCALENDAR
