BEGIN:VCALENDAR
PRODID:http://wibix.de/infusions/pro_download_panel/download.php?did=27
VERSION:2.0
METHOD:PUBLISH
BEGIN:VEVENT
DTSTART:20120328T220000Z
UID:344@http://www.mat-fiz.eu/
DTSTAMP:20120317T155245Z
DESCRIPTION:Pielgrzymka maturzystów
SUMMARY:Pielgrzymka maturzystów
CLASS:PUBLIC
END:VEVENT
END:VCALENDAR
