BEGIN:VCALENDAR
PRODID:http://wibix.de/infusions/pro_download_panel/download.php?did=27
VERSION:2.0
METHOD:PUBLISH
BEGIN:VEVENT
DTSTART:20120219T230000Z
UID:328@http://www.mat-fiz.eu/
DTSTAMP:20120219T164329Z
DESCRIPTION:Matematyka - sprawdzian
SUMMARY:Matematyka - sprawdzian
CLASS:PUBLIC
END:VEVENT
END:VCALENDAR
