BEGIN:VCALENDAR
PRODID:http://wibix.de/infusions/pro_download_panel/download.php?did=27
VERSION:2.0
METHOD:PUBLISH
BEGIN:VEVENT
DTSTART:20120102T230000Z
UID:311@http://www.mat-fiz.eu/
DTSTAMP:20120101T135908Z
DESCRIPTION:Matematyka - praca klasowa
SUMMARY:Matematyka - praca klasowa
CLASS:PUBLIC
END:VEVENT
END:VCALENDAR
