BEGIN:VCALENDAR
PRODID:http://wibix.de/infusions/pro_download_panel/download.php?did=27
VERSION:2.0
METHOD:PUBLISH
BEGIN:VEVENT
DTSTART:20111221T230000Z
UID:310@http://www.mat-fiz.eu/
DTSTAMP:20111220T233716Z
DESCRIPTION:Wigilia Klasowa
SUMMARY:Wigilia Klasowa
CLASS:PUBLIC
END:VEVENT
END:VCALENDAR
