BEGIN:VCALENDAR
PRODID:http://wibix.de/infusions/pro_download_panel/download.php?did=27
VERSION:2.0
METHOD:PUBLISH
BEGIN:VEVENT
DTSTART:20111213T230000Z
UID:291@http://www.mat-fiz.eu/
DTSTAMP:20111212T174216Z
DESCRIPTION:WOK - sprawdzian
SUMMARY:WOK - sprawdzian
CLASS:PUBLIC
END:VEVENT
END:VCALENDAR
