BEGIN:VCALENDAR
PRODID:http://wibix.de/infusions/pro_download_panel/download.php?did=27
VERSION:2.0
METHOD:PUBLISH
BEGIN:VEVENT
DTSTART:20111212T230000Z
UID:289@http://www.mat-fiz.eu/
DTSTAMP:20111207T124100Z
DESCRIPTION:WOS - praca klasowa
SUMMARY:WOS - praca klasowa
CLASS:PUBLIC
END:VEVENT
END:VCALENDAR
