BEGIN:VCALENDAR
PRODID:http://wibix.de/infusions/pro_download_panel/download.php?did=27
VERSION:2.0
METHOD:PUBLISH
BEGIN:VEVENT
DTSTART:20111214T230000Z
UID:285@http://www.mat-fiz.eu/
DTSTAMP:20111201T130719Z
DESCRIPTION:PP - praca klasowa
SUMMARY:PP - praca klasowa
CLASS:PUBLIC
END:VEVENT
END:VCALENDAR
