BEGIN:VCALENDAR
PRODID:http://wibix.de/infusions/pro_download_panel/download.php?did=27
VERSION:2.0
METHOD:PUBLISH
BEGIN:VEVENT
DTSTART:20111025T220000Z
UID:267@http://www.mat-fiz.eu/
DTSTAMP:20111024T122054Z
DESCRIPTION:WOK - sprawdzian
SUMMARY:WOK - sprawdzian
CLASS:PUBLIC
END:VEVENT
END:VCALENDAR
