BEGIN:VCALENDAR
PRODID:http://wibix.de/infusions/pro_download_panel/download.php?did=27
VERSION:2.0
METHOD:PUBLISH
BEGIN:VEVENT
DTSTART:20111027T220000Z
UID:266@http://www.mat-fiz.eu/
DTSTAMP:20111024T111137Z
DESCRIPTION:J. polski - praca klasowa
SUMMARY:J. polski - praca klasowa
CLASS:PUBLIC
END:VEVENT
END:VCALENDAR
