BEGIN:VCALENDAR
PRODID:http://wibix.de/infusions/pro_download_panel/download.php?did=27
VERSION:2.0
METHOD:PUBLISH
BEGIN:VEVENT
DTSTART:20091209T230000Z
UID:26@http://www.mat-fiz.eu/
DTSTAMP:20091105T104857Z
DESCRIPTION:Muzyka - sprawdzian
SUMMARY:Muzyka - sprawdzian
CLASS:PUBLIC
END:VEVENT
END:VCALENDAR
