BEGIN:VCALENDAR
PRODID:http://wibix.de/infusions/pro_download_panel/download.php?did=27
VERSION:2.0
METHOD:PUBLISH
BEGIN:VEVENT
DTSTART:20111005T220000Z
UID:258@http://www.mat-fiz.eu/
DTSTAMP:20111002T100442Z
DESCRIPTION:J. niemiecki - sprawdzian
SUMMARY:J. niemiecki - sprawdzian
CLASS:PUBLIC
END:VEVENT
END:VCALENDAR
