BEGIN:VCALENDAR
PRODID:http://wibix.de/infusions/pro_download_panel/download.php?did=27
VERSION:2.0
METHOD:PUBLISH
BEGIN:VEVENT
DTSTART:20111020T220000Z
UID:256@http://www.mat-fiz.eu/
DTSTAMP:20111002T100306Z
DESCRIPTION:Geografia - praca klasowa
SUMMARY:Geografia - praca klasowa
CLASS:PUBLIC
END:VEVENT
END:VCALENDAR
