BEGIN:VCALENDAR
PRODID:http://wibix.de/infusions/pro_download_panel/download.php?did=27
VERSION:2.0
METHOD:PUBLISH
BEGIN:VEVENT
DTSTART:20110928T220000Z
UID:254@http://www.mat-fiz.eu/
DTSTAMP:20110923T105626Z
DESCRIPTION:Fizyka - sprawdzian
SUMMARY:Fizyka - sprawdzian
CLASS:PUBLIC
END:VEVENT
END:VCALENDAR
