BEGIN:VCALENDAR
PRODID:http://wibix.de/infusions/pro_download_panel/download.php?did=27
VERSION:2.0
METHOD:PUBLISH
BEGIN:VEVENT
DTSTART:20110413T220000Z
UID:233@http://www.mat-fiz.eu/
DTSTAMP:20110326T102102Z
DESCRIPTION:PP - Biznes plan
SUMMARY:PP - Biznes plan
CLASS:PUBLIC
END:VEVENT
END:VCALENDAR
