BEGIN:VCALENDAR
PRODID:http://wibix.de/infusions/pro_download_panel/download.php?did=27
VERSION:2.0
METHOD:PUBLISH
BEGIN:VEVENT
DTSTART:20110309T230000Z
UID:223@http://www.mat-fiz.eu/
DTSTAMP:20110304T150017Z
DESCRIPTION:Biologia - praca klasowa
SUMMARY:Biologia - praca klasowa
CLASS:PUBLIC
END:VEVENT
END:VCALENDAR
