BEGIN:VCALENDAR
PRODID:http://wibix.de/infusions/pro_download_panel/download.php?did=27
VERSION:2.0
METHOD:PUBLISH
BEGIN:VEVENT
DTSTART:20110224T230000Z
UID:218@http://www.mat-fiz.eu/
DTSTAMP:20110224T140829Z
DESCRIPTION:Sweet Party Hard
SUMMARY:Sweet Party Hard
CLASS:PUBLIC
END:VEVENT
END:VCALENDAR
