BEGIN:VCALENDAR
PRODID:http://wibix.de/infusions/pro_download_panel/download.php?did=27
VERSION:2.0
METHOD:PUBLISH
BEGIN:VEVENT
DTSTART:20110220T230000Z
UID:214@http://www.mat-fiz.eu/
DTSTAMP:20110219T211136Z
DESCRIPTION:Fizyka - sprawdzian
SUMMARY:Fizyka - sprawdzian
CLASS:PUBLIC
END:VEVENT
END:VCALENDAR
