BEGIN:VCALENDAR
PRODID:http://wibix.de/infusions/pro_download_panel/download.php?did=27
VERSION:2.0
METHOD:PUBLISH
BEGIN:VEVENT
DTSTART:20110206T230000Z
UID:201@http://www.mat-fiz.eu/
DTSTAMP:20110106T210804Z
DESCRIPTION:Geografia - sprawdzian
SUMMARY:Geografia - sprawdzian
CLASS:PUBLIC
END:VEVENT
END:VCALENDAR
