BEGIN:VCALENDAR
PRODID:http://wibix.de/infusions/pro_download_panel/download.php?did=27
VERSION:2.0
METHOD:PUBLISH
BEGIN:VEVENT
DTSTART:20101220T230000Z
UID:198@http://www.mat-fiz.eu/
DTSTAMP:20101220T125826Z
DESCRIPTION:Dzień Patrona
SUMMARY:Dzień Patrona
CLASS:PUBLIC
END:VEVENT
END:VCALENDAR
