BEGIN:VCALENDAR
PRODID:http://wibix.de/infusions/pro_download_panel/download.php?did=27
VERSION:2.0
METHOD:PUBLISH
BEGIN:VEVENT
DTSTART:20101214T230000Z
UID:197@http://www.mat-fiz.eu/
DTSTAMP:20101208T190046Z
DESCRIPTION:WOS - praca klasowa
SUMMARY:WOS - praca klasowa
CLASS:PUBLIC
END:VEVENT
END:VCALENDAR
