BEGIN:VCALENDAR
PRODID:http://wibix.de/infusions/pro_download_panel/download.php?did=27
VERSION:2.0
METHOD:PUBLISH
BEGIN:VEVENT
DTSTART:20101220T230000Z
UID:195@http://www.mat-fiz.eu/
DTSTAMP:20101207T172904Z
DESCRIPTION:Matematyka - praca klasowa
SUMMARY:Matematyka - praca klasowa
CLASS:PUBLIC
END:VEVENT
END:VCALENDAR
