BEGIN:VCALENDAR
PRODID:http://wibix.de/infusions/pro_download_panel/download.php?did=27
VERSION:2.0
METHOD:PUBLISH
BEGIN:VEVENT
DTSTART:20101207T230000Z
UID:191@http://www.mat-fiz.eu/
DTSTAMP:20101204T173440Z
DESCRIPTION:Miko³ajki
SUMMARY:Miko³ajki
CLASS:PUBLIC
END:VEVENT
END:VCALENDAR
