BEGIN:VCALENDAR
PRODID:http://wibix.de/infusions/pro_download_panel/download.php?did=27
VERSION:2.0
METHOD:PUBLISH
BEGIN:VEVENT
DTSTART:20101202T230000Z
UID:189@http://www.mat-fiz.eu/
DTSTAMP:20101201T212935Z
DESCRIPTION:J. niemiecki - sprawdzian
SUMMARY:J. niemiecki - sprawdzian
CLASS:PUBLIC
END:VEVENT
END:VCALENDAR
