BEGIN:VCALENDAR
PRODID:http://wibix.de/infusions/pro_download_panel/download.php?did=27
VERSION:2.0
METHOD:PUBLISH
BEGIN:VEVENT
DTSTART:20101130T230000Z
UID:187@http://www.mat-fiz.eu/
DTSTAMP:20101128T143006Z
DESCRIPTION:Chemia - powtórzenie
SUMMARY:Chemia - powtórzenie
CLASS:PUBLIC
END:VEVENT
END:VCALENDAR
