BEGIN:VCALENDAR
PRODID:http://wibix.de/infusions/pro_download_panel/download.php?did=27
VERSION:2.0
METHOD:PUBLISH
BEGIN:VEVENT
DTSTART:20101206T230000Z
UID:184@http://www.mat-fiz.eu/
DTSTAMP:20101126T182613Z
DESCRIPTION:&#39;&#39; Pan Tadeusz&#39;&#39;
SUMMARY:&quot;Pan Tadeusz&quot;
CLASS:PUBLIC
END:VEVENT
END:VCALENDAR
