BEGIN:VCALENDAR
PRODID:http://wibix.de/infusions/pro_download_panel/download.php?did=27
VERSION:2.0
METHOD:PUBLISH
BEGIN:VEVENT
DTSTART:20101121T230000Z
UID:181@http://www.mat-fiz.eu/
DTSTAMP:20101120T214830Z
DESCRIPTION:Geografia - sprawdzian
SUMMARY:Geografia - sprawdzian
CLASS:PUBLIC
END:VEVENT
END:VCALENDAR
