BEGIN:VCALENDAR
PRODID:http://wibix.de/infusions/pro_download_panel/download.php?did=27
VERSION:2.0
METHOD:PUBLISH
BEGIN:VEVENT
DTSTART:20101122T230000Z
UID:179@http://www.mat-fiz.eu/
DTSTAMP:20101116T194123Z
DESCRIPTION:J. niemiecki - sprawdzian
SUMMARY:J. niemiecki - sprawdzian
CLASS:PUBLIC
END:VEVENT
END:VCALENDAR
