BEGIN:VCALENDAR
PRODID:http://wibix.de/infusions/pro_download_panel/download.php?did=27
VERSION:2.0
METHOD:PUBLISH
BEGIN:VEVENT
DTSTART:20101226T230000Z
UID:146@http://www.mat-fiz.eu/
DTSTAMP:20101030T214350Z
DESCRIPTION:Przerwa świąteczna
SUMMARY:Przerwa świąteczna
CLASS:PUBLIC
END:VEVENT
END:VCALENDAR
