BEGIN:VCALENDAR
PRODID:http://wibix.de/infusions/pro_download_panel/download.php?did=27
VERSION:2.0
METHOD:PUBLISH
BEGIN:VEVENT
DTSTART:20101003T220000Z
UID:122@http://www.mat-fiz.eu/
DTSTAMP:20100919T155120Z
DESCRIPTION:J. polski - recytacja [i]Ody do młodości[/i]
SUMMARY:J. polski - recytacja Ody
CLASS:PUBLIC
END:VEVENT
END:VCALENDAR
