BEGIN:VCALENDAR
PRODID:http://wibix.de/infusions/pro_download_panel/download.php?did=27
VERSION:2.0
METHOD:PUBLISH
BEGIN:VEVENT
DTSTART:20100606T220000Z
UID:109@http://www.mat-fiz.eu/
DTSTAMP:20100531T155232Z
DESCRIPTION:J. polski - praca klasowa
SUMMARY:J. polski - praca klasowa
CLASS:PUBLIC
END:VEVENT
END:VCALENDAR
