BEGIN:VCALENDAR
PRODID:http://wibix.de/infusions/pro_download_panel/download.php?did=27
VERSION:2.0
METHOD:PUBLISH
BEGIN:VEVENT
DTSTART:20100621T220000Z
UID:106@http://www.mat-fiz.eu/
DTSTAMP:20100531T092136Z
DESCRIPTION:Posiedzenie Rady Pedagogicznej
SUMMARY:Posiedzenie Rady Pedagogicznej
CLASS:PUBLIC
END:VEVENT
END:VCALENDAR
